Package: fabia Version: 2.42.0 Command: chmod a+r fabia -R && F:\biocbuild\bbs-3.15-bioc\R\bin\R.exe CMD build --keep-empty-dirs --no-resave-data fabia StartedAt: 2022-10-18 18:27:22 -0400 (Tue, 18 Oct 2022) EndedAt: 2022-10-18 18:27:57 -0400 (Tue, 18 Oct 2022) EllapsedTime: 34.6 seconds RetCode: 0 Status: OK PackageFile: fabia_2.42.0.tar.gz PackageFileSize: 785 KiB