Package: diggit Version: 1.27.0 Command: D:\biocbuild\bbs-3.15-bioc\R\bin\R.exe CMD check --no-multiarch --install=check:diggit.install-out.txt --library=D:\biocbuild\bbs-3.15-bioc\R\library --no-vignettes --timings diggit_1.27.0.tar.gz StartedAt: 2022-03-17 18:56:44 -0400 (Thu, 17 Mar 2022) EndedAt: 2022-03-17 19:00:43 -0400 (Thu, 17 Mar 2022) EllapsedTime: 239.5 seconds RetCode: 0 Status: WARNINGS CheckDir: diggit.Rcheck Warnings: 3