Package: diggit Version: 1.28.0 Command: /home/biocbuild/bbs-3.15-bioc/R/bin/R CMD check --install=check:diggit.install-out.txt --library=/home/biocbuild/bbs-3.15-bioc/R/library --no-vignettes --timings diggit_1.28.0.tar.gz StartedAt: 2022-10-18 19:27:46 -0400 (Tue, 18 Oct 2022) EndedAt: 2022-10-18 19:30:03 -0400 (Tue, 18 Oct 2022) EllapsedTime: 137.1 seconds RetCode: 0 Status: WARNINGS CheckDir: diggit.Rcheck Warnings: 3