Package: diggit Version: 1.28.0 Command: /Library/Frameworks/R.framework/Resources/bin/R CMD check --install=check:diggit.install-out.txt --library=/Library/Frameworks/R.framework/Resources/library --no-vignettes --timings diggit_1.28.0.tar.gz StartedAt: 2022-10-19 01:42:55 -0400 (Wed, 19 Oct 2022) EndedAt: 2022-10-19 01:47:21 -0400 (Wed, 19 Oct 2022) EllapsedTime: 265.9 seconds RetCode: 0 Status: WARNINGS CheckDir: diggit.Rcheck Warnings: 3