Package: cytoKernel Version: 1.2.0 Command: F:\biocbuild\bbs-3.15-bioc\R\bin\R.exe CMD INSTALL cytoKernel StartedAt: 2022-10-18 16:12:27 -0400 (Tue, 18 Oct 2022) EndedAt: 2022-10-18 16:13:10 -0400 (Tue, 18 Oct 2022) EllapsedTime: 43.0 seconds RetCode: 0 Status: OK