Package: crisprBase Version: 0.99.16 Command: D:\biocbuild\bbs-3.15-bioc\R\bin\R.exe CMD INSTALL crisprBase StartedAt: 2022-03-17 15:38:34 -0400 (Thu, 17 Mar 2022) EndedAt: 2022-03-17 15:40:23 -0400 (Thu, 17 Mar 2022) EllapsedTime: 109.6 seconds RetCode: 0 Status: OK