Package: covRNA Version: 1.22.0 Command: /Library/Frameworks/R.framework/Resources/bin/R CMD INSTALL covRNA StartedAt: 2022-10-18 15:48:31 -0400 (Tue, 18 Oct 2022) EndedAt: 2022-10-18 15:49:08 -0400 (Tue, 18 Oct 2022) EllapsedTime: 36.9 seconds RetCode: 0 Status: OK