Package: covEB Version: 1.21.0 Command: chmod a+r covEB -R && D:\biocbuild\bbs-3.15-bioc\R\bin\R.exe CMD build --keep-empty-dirs --no-resave-data covEB StartedAt: 2022-03-17 16:39:57 -0400 (Thu, 17 Mar 2022) EndedAt: 2022-03-17 16:40:15 -0400 (Thu, 17 Mar 2022) EllapsedTime: 18.6 seconds RetCode: 0 Status: OK PackageFile: covEB_1.21.0.tar.gz PackageFileSize: 76.76 KiB