Package: covEB Version: 1.22.0 Command: /home/biocbuild/bbs-3.15-bioc/R/bin/R CMD build --keep-empty-dirs --no-resave-data covEB StartedAt: 2022-10-18 16:21:41 -0400 (Tue, 18 Oct 2022) EndedAt: 2022-10-18 16:21:57 -0400 (Tue, 18 Oct 2022) EllapsedTime: 15.9 seconds RetCode: 0 Status: OK PackageFile: covEB_1.22.0.tar.gz PackageFileSize: 56.86 KiB