git_url: https://git.bioconductor.org/packages/copa git_branch: RELEASE_3_15 git_last_commit: f777e54 git_last_commit_date: 2022-04-26 10:58:10 -0400 (Tue, 26 Apr 2022) Package: copa Version: 1.64.0 Maintainer: James W. MacDonald MaintainerEmail: jmacdon at u.washington.edu