Package: consensusDE Version: 1.14.0 Command: /Library/Frameworks/R.framework/Resources/bin/R CMD check --install=check:consensusDE.install-out.txt --library=/Library/Frameworks/R.framework/Resources/library --no-vignettes --timings consensusDE_1.14.0.tar.gz StartedAt: 2022-10-19 00:56:53 -0400 (Wed, 19 Oct 2022) EndedAt: 2022-10-19 01:05:26 -0400 (Wed, 19 Oct 2022) EllapsedTime: 512.9 seconds RetCode: 0 Status: OK CheckDir: consensusDE.Rcheck Warnings: 0