Package: consensusDE Version: 1.14.0 Command: rm -rf consensusDE.buildbin-libdir && mkdir consensusDE.buildbin-libdir && /Users/biocbuild/BBS/utils/build-universal.sh consensusDE_1.14.0.tar.gz /Library/Frameworks/R.framework/Resources/bin/R consensusDE.buildbin-libdir StartedAt: 2022-10-19 10:09:09 -0400 (Wed, 19 Oct 2022) EndedAt: 2022-10-19 10:10:40 -0400 (Wed, 19 Oct 2022) EllapsedTime: 91.3 seconds RetCode: 0 Status: OK PackageFile: consensusDE_1.14.0.tgz PackageFileSize: 822.4 KiB