Package: combi Version: 1.8.0 Command: chmod a+r combi -R && F:\biocbuild\bbs-3.15-bioc\R\bin\R.exe CMD build --keep-empty-dirs --no-resave-data combi StartedAt: 2022-10-18 17:50:12 -0400 (Tue, 18 Oct 2022) EndedAt: 2022-10-18 17:52:43 -0400 (Tue, 18 Oct 2022) EllapsedTime: 150.8 seconds RetCode: 0 Status: OK PackageFile: combi_1.8.0.tar.gz PackageFileSize: 1.175 MiB