Package: comapr Version: 0.99.43 Command: D:\biocbuild\bbs-3.15-bioc\R\bin\R.exe CMD check --no-multiarch --install=check:comapr.install-out.txt --library=D:\biocbuild\bbs-3.15-bioc\R\library --no-vignettes --timings comapr_0.99.43.tar.gz StartedAt: 2022-03-17 18:47:10 -0400 (Thu, 17 Mar 2022) EndedAt: 2022-03-17 18:54:00 -0400 (Thu, 17 Mar 2022) EllapsedTime: 410.6 seconds RetCode: 0 Status: OK CheckDir: comapr.Rcheck Warnings: 0