Package: cn.farms Version: 1.44.0 Command: F:\biocbuild\bbs-3.15-bioc\R\bin\R.exe CMD INSTALL cn.farms StartedAt: 2022-10-18 16:08:11 -0400 (Tue, 18 Oct 2022) EndedAt: 2022-10-18 16:09:01 -0400 (Tue, 18 Oct 2022) EllapsedTime: 50.3 seconds RetCode: 0 Status: OK