git_url: https://git.bioconductor.org/packages/clst git_branch: RELEASE_3_15 git_last_commit: b0df5f7 git_last_commit_date: 2022-04-26 11:07:03 -0400 (Tue, 26 Apr 2022) Package: clst Version: 1.44.0 Maintainer: Noah Hoffman MaintainerEmail: ngh2 at uw.edu