Package: cliqueMS Version: 1.10.0 Command: /home/biocbuild/bbs-3.15-bioc/R/bin/R CMD build --keep-empty-dirs --no-resave-data cliqueMS StartedAt: 2022-10-18 16:16:30 -0400 (Tue, 18 Oct 2022) EndedAt: 2022-10-18 16:18:03 -0400 (Tue, 18 Oct 2022) EllapsedTime: 93.4 seconds RetCode: 0 Status: OK PackageFile: cliqueMS_1.10.0.tar.gz PackageFileSize: 556.1 KiB