Package: chromDraw Version: 2.25.0 Command: chmod a+r chromDraw -R && D:\biocbuild\bbs-3.15-bioc\R\bin\R.exe CMD build --keep-empty-dirs --no-resave-data chromDraw StartedAt: 2022-03-17 16:34:36 -0400 (Thu, 17 Mar 2022) EndedAt: 2022-03-17 16:36:30 -0400 (Thu, 17 Mar 2022) EllapsedTime: 114.3 seconds RetCode: 0 Status: OK PackageFile: chromDraw_2.25.0.tar.gz PackageFileSize: 2.14 MiB