Package: cellxgenedp Version: 1.0.1 Command: rm -rf cellxgenedp.buildbin-libdir && mkdir cellxgenedp.buildbin-libdir && F:\biocbuild\bbs-3.15-bioc\R\bin\R.exe CMD INSTALL --build --library=cellxgenedp.buildbin-libdir cellxgenedp_1.0.1.tar.gz StartedAt: 2022-10-19 05:39:27 -0400 (Wed, 19 Oct 2022) EndedAt: 2022-10-19 05:40:09 -0400 (Wed, 19 Oct 2022) EllapsedTime: 42.0 seconds RetCode: 0 Status: OK PackageFile: cellxgenedp_1.0.1.zip PackageFileSize: 934.3 KiB