git_url: https://git.bioconductor.org/packages/cellTree git_branch: RELEASE_3_15 git_last_commit: b234c33 git_last_commit_date: 2022-04-26 11:28:54 -0400 (Tue, 26 Apr 2022) Package: cellTree Version: 1.26.0 Maintainer: David duVerle MaintainerEmail: dave at cb.k.u-tokyo.ac.jp