Package: bugsigdbr Version: 1.1.10 Command: chmod a+r bugsigdbr -R && D:\biocbuild\bbs-3.15-bioc\R\bin\R.exe CMD build --keep-empty-dirs --no-resave-data bugsigdbr StartedAt: 2022-03-17 16:29:51 -0400 (Thu, 17 Mar 2022) EndedAt: 2022-03-17 16:30:24 -0400 (Thu, 17 Mar 2022) EllapsedTime: 33.7 seconds RetCode: 0 Status: OK PackageFile: bugsigdbr_1.1.10.tar.gz PackageFileSize: 310.8 KiB