Package: bugsigdbr Version: 1.2.2 Command: /Library/Frameworks/R.framework/Resources/bin/R CMD INSTALL bugsigdbr StartedAt: 2022-10-18 15:54:50 -0400 (Tue, 18 Oct 2022) EndedAt: 2022-10-18 15:54:55 -0400 (Tue, 18 Oct 2022) EllapsedTime: 5.1 seconds RetCode: 0 Status: OK