Package: bugsigdbr Version: 1.2.2 Command: /Library/Frameworks/R.framework/Resources/bin/R CMD build --keep-empty-dirs --no-resave-data bugsigdbr StartedAt: 2022-10-18 17:20:32 -0400 (Tue, 18 Oct 2022) EndedAt: 2022-10-18 17:21:39 -0400 (Tue, 18 Oct 2022) EllapsedTime: 67.3 seconds RetCode: 0 Status: OK PackageFile: bugsigdbr_1.2.2.tar.gz PackageFileSize: 310.7 KiB