Package: brendaDb Version: 1.10.0 Command: chmod a+r brendaDb -R && F:\biocbuild\bbs-3.15-bioc\R\bin\R.exe CMD build --keep-empty-dirs --no-resave-data brendaDb StartedAt: 2022-10-18 17:29:44 -0400 (Tue, 18 Oct 2022) EndedAt: 2022-10-18 17:30:33 -0400 (Tue, 18 Oct 2022) EllapsedTime: 48.1 seconds RetCode: 1 Status: ERROR PackageFile: None PackageFileSize: NA