Package: brendaDb Version: 1.10.0 Command: /home/biocbuild/bbs-3.15-bioc/R/bin/R CMD check --install=check:brendaDb.install-out.txt --library=/home/biocbuild/bbs-3.15-bioc/R/library --no-vignettes --timings brendaDb_1.10.0.tar.gz StartedAt: 2022-10-13 18:42:38 -0400 (Thu, 13 Oct 2022) EndedAt: 2022-10-13 18:43:53 -0400 (Thu, 13 Oct 2022) EllapsedTime: 75.4 seconds RetCode: 0 Status: OK CheckDir: brendaDb.Rcheck Warnings: 0