Package: biscuiteer Version: 1.9.2 Command: chmod a+r biscuiteer -R && D:\biocbuild\bbs-3.15-bioc\R\bin\R.exe CMD build --keep-empty-dirs --no-resave-data biscuiteer StartedAt: 2022-03-17 16:27:54 -0400 (Thu, 17 Mar 2022) EndedAt: 2022-03-17 16:31:04 -0400 (Thu, 17 Mar 2022) EllapsedTime: 189.7 seconds RetCode: 0 Status: OK PackageFile: biscuiteer_1.9.2.tar.gz PackageFileSize: 4.74 MiB