Package: biscuiteer Version: 1.10.0 Command: /Library/Frameworks/R.framework/Resources/bin/R CMD build --keep-empty-dirs --no-resave-data biscuiteer StartedAt: 2022-10-18 17:15:14 -0400 (Tue, 18 Oct 2022) EndedAt: 2022-10-18 17:17:37 -0400 (Tue, 18 Oct 2022) EllapsedTime: 142.5 seconds RetCode: 0 Status: OK PackageFile: biscuiteer_1.10.0.tar.gz PackageFileSize: 4.745 MiB