Package: biodbKegg Version: 1.2.1 Command: /home/biocbuild/bbs-3.15-bioc/R/bin/R CMD build --keep-empty-dirs --no-resave-data biodbKegg StartedAt: 2022-10-18 16:04:23 -0400 (Tue, 18 Oct 2022) EndedAt: 2022-10-18 16:06:44 -0400 (Tue, 18 Oct 2022) EllapsedTime: 141.4 seconds RetCode: 0 Status: OK PackageFile: biodbKegg_1.2.1.tar.gz PackageFileSize: 511.2 KiB