Package: biodbKegg Version: 1.2.1 Command: /Library/Frameworks/R.framework/Resources/bin/R CMD check --install=check:biodbKegg.install-out.txt --library=/Library/Frameworks/R.framework/Resources/library --no-vignettes --timings biodbKegg_1.2.1.tar.gz StartedAt: 2022-10-18 23:48:41 -0400 (Tue, 18 Oct 2022) EndedAt: 2022-10-19 00:11:23 -0400 (Wed, 19 Oct 2022) EllapsedTime: 1361.5 seconds RetCode: 0 Status: OK CheckDir: biodbKegg.Rcheck Warnings: 0