Package: biocViews Version: 1.64.1 Command: rm -rf biocViews.buildbin-libdir && mkdir biocViews.buildbin-libdir && F:\biocbuild\bbs-3.15-bioc\R\bin\R.exe CMD INSTALL --build --library=biocViews.buildbin-libdir biocViews_1.64.1.tar.gz StartedAt: 2022-10-19 05:35:25 -0400 (Wed, 19 Oct 2022) EndedAt: 2022-10-19 05:35:50 -0400 (Wed, 19 Oct 2022) EllapsedTime: 25.0 seconds RetCode: 0 Status: OK PackageFile: biocViews_1.64.1.zip PackageFileSize: 648.3 KiB