Package: beachmat Version: 2.12.0 Command: /home/biocbuild/bbs-3.15-bioc/R/bin/R CMD INSTALL beachmat StartedAt: 2022-10-18 15:22:09 -0400 (Tue, 18 Oct 2022) EndedAt: 2022-10-18 15:22:31 -0400 (Tue, 18 Oct 2022) EllapsedTime: 22.0 seconds RetCode: 0 Status: OK