Package: baySeq Version: 2.30.0 Command: rm -rf baySeq.buildbin-libdir && mkdir baySeq.buildbin-libdir && /Users/biocbuild/BBS/utils/build-universal.sh baySeq_2.30.0.tar.gz /Library/Frameworks/R.framework/Resources/bin/R baySeq.buildbin-libdir StartedAt: 2022-10-19 09:56:50 -0400 (Wed, 19 Oct 2022) EndedAt: 2022-10-19 09:57:30 -0400 (Wed, 19 Oct 2022) EllapsedTime: 40.5 seconds RetCode: 0 Status: OK PackageFile: baySeq_2.30.0.tgz PackageFileSize: 1.574 MiB