Package: banocc Version: 1.20.0 Command: /Library/Frameworks/R.framework/Resources/bin/R CMD check --install=check:banocc.install-out.txt --library=/Library/Frameworks/R.framework/Resources/library --no-vignettes --timings banocc_1.20.0.tar.gz StartedAt: 2022-10-18 23:26:17 -0400 (Tue, 18 Oct 2022) EndedAt: 2022-10-18 23:29:49 -0400 (Tue, 18 Oct 2022) EllapsedTime: 212.5 seconds RetCode: 0 Status: OK CheckDir: banocc.Rcheck Warnings: 0