Package: bandle Version: 1.0.0 Command: /Library/Frameworks/R.framework/Resources/bin/R CMD check --install=check:bandle.install-out.txt --library=/Library/Frameworks/R.framework/Resources/library --no-vignettes --timings bandle_1.0.0.tar.gz StartedAt: 2022-10-18 23:25:47 -0400 (Tue, 18 Oct 2022) EndedAt: 2022-10-18 23:41:49 -0400 (Tue, 18 Oct 2022) EllapsedTime: 962.0 seconds RetCode: 0 Status: OK CheckDir: bandle.Rcheck Warnings: 0