Package: arrayQualityMetrics Version: 3.51.0 Command: chmod a+r arrayQualityMetrics -R && D:\biocbuild\bbs-3.15-bioc\R\bin\R.exe CMD build --keep-empty-dirs --no-resave-data arrayQualityMetrics StartedAt: 2022-03-17 16:22:57 -0400 (Thu, 17 Mar 2022) EndedAt: 2022-03-17 16:28:56 -0400 (Thu, 17 Mar 2022) EllapsedTime: 359.5 seconds RetCode: 0 Status: OK PackageFile: arrayQualityMetrics_3.51.0.tar.gz PackageFileSize: 583.8 KiB