Package: anota Version: 1.43.0 Command: D:\biocbuild\bbs-3.15-bioc\R\bin\R.exe CMD check --no-multiarch --install=check:anota.install-out.txt --library=D:\biocbuild\bbs-3.15-bioc\R\library --no-vignettes --timings anota_1.43.0.tar.gz StartedAt: 2022-03-17 18:26:44 -0400 (Thu, 17 Mar 2022) EndedAt: 2022-03-17 18:28:00 -0400 (Thu, 17 Mar 2022) EllapsedTime: 75.8 seconds RetCode: 0 Status: OK CheckDir: anota.Rcheck Warnings: 0