Package: affyILM Version: 1.47.0 Command: rm -rf affyILM.buildbin-libdir && mkdir affyILM.buildbin-libdir && D:\biocbuild\bbs-3.15-bioc\R\bin\R.exe CMD INSTALL --build --library=affyILM.buildbin-libdir affyILM_1.47.0.tar.gz StartedAt: 2022-03-17 20:51:22 -0400 (Thu, 17 Mar 2022) EndedAt: 2022-03-17 20:52:46 -0400 (Thu, 17 Mar 2022) EllapsedTime: 84.4 seconds RetCode: 0 Status: OK PackageFile: affyILM_1.47.0.zip PackageFileSize: 413 KiB