Package: aCGH Version: 1.74.0 Command: rm -rf aCGH.buildbin-libdir && mkdir aCGH.buildbin-libdir && F:\biocbuild\bbs-3.15-bioc\R\bin\R.exe CMD INSTALL --build --library=aCGH.buildbin-libdir aCGH_1.74.0.tar.gz StartedAt: 2022-10-19 05:29:40 -0400 (Wed, 19 Oct 2022) EndedAt: 2022-10-19 05:30:23 -0400 (Wed, 19 Oct 2022) EllapsedTime: 43.5 seconds RetCode: 0 Status: OK PackageFile: aCGH_1.74.0.zip PackageFileSize: 2.435 MiB