Package: aCGH Version: 1.74.0 Command: /Library/Frameworks/R.framework/Resources/bin/R CMD check --install=check:aCGH.install-out.txt --library=/Library/Frameworks/R.framework/Resources/library --no-vignettes --timings aCGH_1.74.0.tar.gz StartedAt: 2022-10-18 23:02:14 -0400 (Tue, 18 Oct 2022) EndedAt: 2022-10-18 23:04:29 -0400 (Tue, 18 Oct 2022) EllapsedTime: 135.4 seconds RetCode: 0 Status: OK CheckDir: aCGH.Rcheck Warnings: 0