Package: a4Classif Version: 1.43.0 Command: D:\biocbuild\bbs-3.15-bioc\R\bin\R.exe CMD INSTALL a4Classif StartedAt: 2022-03-17 15:34:50 -0400 (Thu, 17 Mar 2022) EndedAt: 2022-03-17 15:36:10 -0400 (Thu, 17 Mar 2022) EllapsedTime: 79.7 seconds RetCode: 0 Status: OK