Package: YAPSA Version: 1.21.1 Command: D:\biocbuild\bbs-3.15-bioc\R\bin\R.exe CMD INSTALL YAPSA StartedAt: 2022-03-17 16:18:52 -0400 (Thu, 17 Mar 2022) EndedAt: 2022-03-17 16:19:42 -0400 (Thu, 17 Mar 2022) EllapsedTime: 50.7 seconds RetCode: 0 Status: OK