Package: YAPSA Version: 1.21.1 Command: rm -rf YAPSA.buildbin-libdir && mkdir YAPSA.buildbin-libdir && D:\biocbuild\bbs-3.15-bioc\R\bin\R.exe CMD INSTALL --build --library=YAPSA.buildbin-libdir YAPSA_1.21.1.tar.gz StartedAt: 2022-03-17 21:47:56 -0400 (Thu, 17 Mar 2022) EndedAt: 2022-03-17 21:48:59 -0400 (Thu, 17 Mar 2022) EllapsedTime: 62.6 seconds RetCode: 0 Status: OK PackageFile: YAPSA_1.21.1.zip PackageFileSize: 3.407 MiB