Package: YAPSA Version: 1.22.0 Command: chmod a+r YAPSA -R && F:\biocbuild\bbs-3.15-bioc\R\bin\R.exe CMD build --keep-empty-dirs --no-resave-data YAPSA StartedAt: 2022-10-18 21:41:58 -0400 (Tue, 18 Oct 2022) EndedAt: 2022-10-18 21:45:55 -0400 (Tue, 18 Oct 2022) EllapsedTime: 236.6 seconds RetCode: 0 Status: OK PackageFile: YAPSA_1.22.0.tar.gz PackageFileSize: 3.057 MiB