Package: YAPSA Version: 1.22.0 Command: /home/biocbuild/bbs-3.15-bioc/R/bin/R CMD build --keep-empty-dirs --no-resave-data YAPSA StartedAt: 2022-10-18 18:24:29 -0400 (Tue, 18 Oct 2022) EndedAt: 2022-10-18 18:27:17 -0400 (Tue, 18 Oct 2022) EllapsedTime: 168.1 seconds RetCode: 0 Status: OK PackageFile: YAPSA_1.22.0.tar.gz PackageFileSize: 3.976 MiB