Package: YAPSA Version: 1.22.0 Command: rm -rf YAPSA.buildbin-libdir && mkdir YAPSA.buildbin-libdir && /Users/biocbuild/BBS/utils/build-universal.sh YAPSA_1.22.0.tar.gz /Library/Frameworks/R.framework/Resources/bin/R YAPSA.buildbin-libdir StartedAt: 2022-10-19 11:23:59 -0400 (Wed, 19 Oct 2022) EndedAt: 2022-10-19 11:25:26 -0400 (Wed, 19 Oct 2022) EllapsedTime: 87.8 seconds RetCode: 0 Status: OK PackageFile: YAPSA_1.22.0.tgz PackageFileSize: 4.03 MiB