############################################################################## ############################################################################## ### ### Running command: ### ### D:\biocbuild\bbs-3.15-bioc\R\bin\R.exe CMD INSTALL VegaMC ### ############################################################################## ############################################################################## * installing to library 'D:/biocbuild/bbs-3.15-bioc/R/library' * installing *source* package 'VegaMC' ... ** using staged installation ** libs "C:/rtools40/mingw64/bin/"gcc -I"D:/biocbuild/bbs-3.15-bioc/R/include" -DNDEBUG -I"C:/extsoft/include" -O2 -Wall -std=gnu99 -mfpmath=sse -msse2 -mstackrealign -fno-reorder-blocks-and-partition -c run_vegaMC.c -o run_vegaMC.o run_vegaMC.c: In function 'read_params': run_vegaMC.c:618:18: warning: unused variable 'brkt' [-Wunused-variable] char *elem, *brkt; ^~~~ run_vegaMC.c: In function 'load_data': run_vegaMC.c:534:32: warning: 'chr' may be used uninitialized in this function [-Wmaybe-uninitialized] temp_probe->chromosome = chr; ~~~~~~~~~~~~~~~~~~~~~~~^~~~~ run_vegaMC.c:535:30: warning: 'position' may be used uninitialized in this function [-Wmaybe-uninitialized] temp_probe->position = position; ~~~~~~~~~~~~~~~~~~~~~^~~~~~~~~~ run_vegaMC.c:564:14: warning: 'first_probe' may be used uninitialized in this function [-Wmaybe-uninitialized] prev_chr = temp_probe->chromosome; ~~~~~~~~~^~~~~~~~~~~~~~~~~~~~~~~~ run_vegaMC.c: In function 'call_VegaMC': run_vegaMC.c:466:38: warning: 'first_seg' may be used uninitialized in this function [-Wmaybe-uninitialized] seg_chromosomes[j] = (tmp->chromosome) + 1; ~~~~^~~~~~~~~~~~~ run_vegaMC.c:435:32: warning: 'prev_seg' may be used uninitialized in this function [-Wmaybe-uninitialized] prev_seg->next = tmp; ~~~~~~~~~~~~~~~^~~~~ "C:/rtools40/mingw64/bin/"gcc -I"D:/biocbuild/bbs-3.15-bioc/R/include" -DNDEBUG -I"C:/extsoft/include" -O2 -Wall -std=gnu99 -mfpmath=sse -msse2 -mstackrealign -fno-reorder-blocks-and-partition -c sort_data.c -o sort_data.o "C:/rtools40/mingw64/bin/"gcc -I"D:/biocbuild/bbs-3.15-bioc/R/include" -DNDEBUG -I"C:/extsoft/include" -O2 -Wall -std=gnu99 -mfpmath=sse -msse2 -mstackrealign -fno-reorder-blocks-and-partition -c vegaMC.c -o vegaMC.o vegaMC.c: In function 'heap_delete': vegaMC.c:235:10: warning: variable 'deleted' set but not used [-Wunused-but-set-variable] node deleted; ^~~~~~~ vegaMC.c: In function 'init_trivial_segmentation': vegaMC.c:592:15: warning: variable 'index' set but not used [-Wunused-but-set-variable] int i, j, index; ^~~~~ C:/rtools40/mingw64/bin/gcc -shared -s -static-libgcc -o VegaMC.dll tmp.def run_vegaMC.o sort_data.o vegaMC.o -LC:/extsoft/lib/x64 -LC:/extsoft/lib -LD:/biocbuild/bbs-3.15-bioc/R/bin/x64 -lR installing to D:/biocbuild/bbs-3.15-bioc/R/library/00LOCK-VegaMC/00new/VegaMC/libs/x64 ** R ** inst ** byte-compile and prepare package for lazy loading ** help *** installing help indices converting help for package 'VegaMC' finding HTML links ... done VegaMC-package html sortData html vegaMC-methods html REDIRECT:topic Previous alias or file overwritten by alias: D:/biocbuild/bbs-3.15-bioc/R/library/00LOCK-VegaMC/00new/VegaMC/help/vegaMC.html ** building package indices ** installing vignettes ** testing if installed package can be loaded from temporary location ** testing if installed package can be loaded from final location ** testing if installed package keeps a record of temporary installation path * DONE (VegaMC) Making 'packages.html' ...Warning in packageDescription(i, lib.loc = lib, fields = "Title", encoding = "UTF-8") : DESCRIPTION file of package 'puma' is missing or broken done