Package: VegaMC Version: 3.33.1 Command: D:\biocbuild\bbs-3.15-bioc\R\bin\R.exe CMD check --no-multiarch --install=check:VegaMC.install-out.txt --library=D:\biocbuild\bbs-3.15-bioc\R\library --no-vignettes --timings VegaMC_3.33.1.tar.gz StartedAt: 2022-03-17 20:35:11 -0400 (Thu, 17 Mar 2022) EndedAt: 2022-03-17 20:37:00 -0400 (Thu, 17 Mar 2022) EllapsedTime: 109.5 seconds RetCode: 0 Status: OK CheckDir: VegaMC.Rcheck Warnings: 0