Package: VAExprs Version: 1.2.1 Command: /Library/Frameworks/R.framework/Resources/bin/R CMD check --install=check:VAExprs.install-out.txt --library=/Library/Frameworks/R.framework/Resources/library --no-vignettes --timings VAExprs_1.2.1.tar.gz StartedAt: 2022-10-19 09:19:43 -0400 (Wed, 19 Oct 2022) EndedAt: 2022-10-19 09:27:27 -0400 (Wed, 19 Oct 2022) EllapsedTime: 463.8 seconds RetCode: 0 Status: OK CheckDir: VAExprs.Rcheck Warnings: 0