Package: VAExprs Version: 1.2.1 Command: /Library/Frameworks/R.framework/Resources/bin/R CMD build --keep-empty-dirs --no-resave-data VAExprs StartedAt: 2022-10-18 22:29:32 -0400 (Tue, 18 Oct 2022) EndedAt: 2022-10-18 22:32:28 -0400 (Tue, 18 Oct 2022) EllapsedTime: 176.8 seconds RetCode: 0 Status: OK PackageFile: VAExprs_1.2.1.tar.gz PackageFileSize: 1.904 MiB