Package: Uniquorn Version: 2.16.0 Command: /Library/Frameworks/R.framework/Resources/bin/R CMD check --install=check:Uniquorn.install-out.txt --library=/Library/Frameworks/R.framework/Resources/library --no-vignettes --timings Uniquorn_2.16.0.tar.gz StartedAt: 2022-10-19 09:18:50 -0400 (Wed, 19 Oct 2022) EndedAt: 2022-10-19 09:27:18 -0400 (Wed, 19 Oct 2022) EllapsedTime: 508.5 seconds RetCode: 0 Status: WARNINGS CheckDir: Uniquorn.Rcheck Warnings: 1